BEGIN:VCALENDAR
VERSION:2.0
PRODID:-//ACF - La Réunion - ECPv6.15.20//NONSGML v1.0//EN
CALSCALE:GREGORIAN
METHOD:PUBLISH
X-WR-CALNAME:ACF - La Réunion
X-ORIGINAL-URL:https://acf-lareunion.fr
X-WR-CALDESC:Évènements pour ACF - La Réunion
REFRESH-INTERVAL;VALUE=DURATION:PT1H
X-Robots-Tag:noindex
X-PUBLISHED-TTL:PT1H
BEGIN:VTIMEZONE
TZID:Indian/Reunion
BEGIN:STANDARD
TZOFFSETFROM:+0400
TZOFFSETTO:+0400
TZNAME:+04
DTSTART:20250101T000000
END:STANDARD
END:VTIMEZONE
BEGIN:VEVENT
DTSTART;TZID=Indian/Reunion:20260217T180000
DTEND;TZID=Indian/Reunion:20260217T193000
DTSTAMP:20260420T201019
CREATED:20260209T142519Z
LAST-MODIFIED:20260209T142519Z
UID:4462-1771351200-1771356600@acf-lareunion.fr
SUMMARY:Atelier introduction à la psychanalyse
DESCRIPTION:
URL:https://acf-lareunion.fr/event/atelier-introduction-a-la-psychanalyse/
LOCATION:CHU – PFME Salle TOUCAN (-2)\, Pôle Femme-Mère-Enfant\, CHU Sud Réunion\, Terre Sainte\, Saint-Pierre\, 97448\, Reunion
CATEGORIES:Séminaire d'introduction à la psychanalyse
ORGANIZER;CN="ACF - La R%C3%A9union":MAILTO:psychanalyse@acf-lareunion.fr
END:VEVENT
END:VCALENDAR