BEGIN:VCALENDAR
VERSION:2.0
PRODID:-//ACF - La Réunion - ECPv6.15.20//NONSGML v1.0//EN
CALSCALE:GREGORIAN
METHOD:PUBLISH
X-ORIGINAL-URL:https://acf-lareunion.fr
X-WR-CALDESC:Évènements pour ACF - La Réunion
REFRESH-INTERVAL;VALUE=DURATION:PT1H
X-Robots-Tag:noindex
X-PUBLISHED-TTL:PT1H
BEGIN:VTIMEZONE
TZID:Indian/Reunion
BEGIN:STANDARD
TZOFFSETFROM:+0400
TZOFFSETTO:+0400
TZNAME:+04
DTSTART:20230101T000000
END:STANDARD
END:VTIMEZONE
BEGIN:VEVENT
DTSTART;TZID=Indian/Reunion:20240323T090000
DTEND;TZID=Indian/Reunion:20240323T180000
DTSTAMP:20260421T084729
CREATED:20240227T161209Z
LAST-MODIFIED:20240227T161209Z
UID:4019-1711184400-1711216800@acf-lareunion.fr
SUMMARY:3ème Journée du CERA
DESCRIPTION:
URL:https://acf-lareunion.fr/event/3eme-journee-du-cera/
LOCATION:Issy les Moulineaux
CATEGORIES:Congrès nationaux
END:VEVENT
END:VCALENDAR