BEGIN:VCALENDAR
VERSION:2.0
PRODID:-//ACF - La Réunion - ECPv6.15.20//NONSGML v1.0//EN
CALSCALE:GREGORIAN
METHOD:PUBLISH
X-WR-CALNAME:ACF - La Réunion
X-ORIGINAL-URL:https://acf-lareunion.fr
X-WR-CALDESC:Évènements pour ACF - La Réunion
REFRESH-INTERVAL;VALUE=DURATION:PT1H
X-Robots-Tag:noindex
X-PUBLISHED-TTL:PT1H
BEGIN:VTIMEZONE
TZID:Indian/Reunion
BEGIN:STANDARD
TZOFFSETFROM:+0400
TZOFFSETTO:+0400
TZNAME:+04
DTSTART:20250101T000000
END:STANDARD
END:VTIMEZONE
BEGIN:VEVENT
DTSTART;TZID=Indian/Reunion:20260421T183000
DTEND;TZID=Indian/Reunion:20260421T203000
DTSTAMP:20260421T014320
CREATED:20260209T141645Z
LAST-MODIFIED:20260413T145507Z
UID:4447-1776796200-1776803400@acf-lareunion.fr
SUMMARY:Ateliers théorique et clinique avec Damien Guyonnet
DESCRIPTION:
URL:https://acf-lareunion.fr/event/ateliers-theorique-et-clinique-3/
LOCATION:Vert Tu Oses\, 76 rue Antoine de Bertin\, La Saline les Bains\, 97434\, Reunion
CATEGORIES:Atelier Clinique
ORGANIZER;CN="ACF - La R%C3%A9union":MAILTO:psychanalyse@acf-lareunion.fr
END:VEVENT
END:VCALENDAR